BEGIN:VCALENDAR
VERSION:2.0
PRODID:-//wp-events-plugin.com//7.2.3.1//EN
BEGIN:VEVENT
UID:288@swroga.org
DTSTART;TZID=America/Chicago;VALUE=DATE:20250329
DTEND;TZID=America/Chicago;VALUE=DATE:20250331
DTSTAMP:20250103T055705Z
URL:http://swroga.org/events/tulsa-orchid-societys-annual-spring-show
SUMMARY:Tulsa Orchid Society's Annual Spring Show
DESCRIPTION:
CATEGORIES:Orchid Judging,Orchid Show
LOCATION:Tulsa Garden Center\, 2435 S Peoria Ave\, tulsa\, OK\, 74114\, Uni
 ted States
GEO:36.129213;-95.975541
X-APPLE-STRUCTURED-LOCATION;VALUE=URI;X-ADDRESS=2435 S Peoria Ave\, tulsa\,
  OK\, 74114\, United States;X-APPLE-RADIUS=100;X-TITLE=Tulsa Garden Center
 :geo:36.129213,-95.975541
END:VEVENT
BEGIN:VTIMEZONE
TZID:America/Chicago
X-LIC-LOCATION:America/Chicago
BEGIN:DAYLIGHT
DTSTART:20250309T030000
TZOFFSETFROM:-0600
TZOFFSETTO:-0500
TZNAME:CDT
END:DAYLIGHT
END:VTIMEZONE
END:VCALENDAR