BEGIN:VCALENDAR
VERSION:2.0
PRODID:-//wp-events-plugin.com//7.2.3.1//EN
BEGIN:VEVENT
UID:32@swroga.org
DTSTART;TZID=America/Chicago:20180921T090000
DTEND;TZID=America/Chicago:20180922T090000
DTSTAMP:20180809T033618Z
URL:http://swroga.org/events/swroga-meeting-and-shreveport-orchid-society-
 tabletop-show
SUMMARY:SWROGA Meeting and Shreveport Orchid Society Tabletop Show
DESCRIPTION:
CATEGORIES:Orchid Show
LOCATION:\, \, 
X-APPLE-STRUCTURED-LOCATION;VALUE=URI;X-ADDRESS=\, ;X-APPLE-RADIUS=100;X-TI
 TLE=:geo:0,0
END:VEVENT
BEGIN:VTIMEZONE
TZID:America/Chicago
X-LIC-LOCATION:America/Chicago
BEGIN:DAYLIGHT
DTSTART:20180311T030000
TZOFFSETFROM:-0600
TZOFFSETTO:-0500
TZNAME:CDT
END:DAYLIGHT
END:VTIMEZONE
END:VCALENDAR