BEGIN:VCALENDAR
VERSION:2.0
PRODID:-//wp-events-plugin.com//7.2.3.1//EN
BEGIN:VEVENT
UID:375@swroga.org
DTSTART;TZID=America/Chicago;VALUE=DATE:20250222
DTEND;TZID=America/Chicago;VALUE=DATE:20250223
DTSTAMP:20250114T170517Z
URL:http://swroga.org/events/multi-center-judges-workshop
SUMMARY:Multi-Center Judges Workshop
DESCRIPTION:More information coming soon.
CATEGORIES:Orchid Judging,Orchid Sale / Auction
LOCATION:Westside Regional Library\, 5416 Provine Place\, Alexandria\, LA\,
  71303\, United States
GEO:31.293157;-92.50002
X-APPLE-STRUCTURED-LOCATION;VALUE=URI;X-ADDRESS=5416 Provine Place\, Alexan
 dria\, LA\, 71303\, United States;X-APPLE-RADIUS=100;X-TITLE=Westside Regi
 onal Library:geo:31.293157,-92.50002
END:VEVENT
BEGIN:VTIMEZONE
TZID:America/Chicago
X-LIC-LOCATION:America/Chicago
BEGIN:STANDARD
DTSTART:20241103T010000
TZOFFSETFROM:-0500
TZOFFSETTO:-0600
TZNAME:CST
END:STANDARD
END:VTIMEZONE
END:VCALENDAR