BEGIN:VCALENDAR
VERSION:2.0
PRODID:-//wp-events-plugin.com//7.2.3.1//EN
BEGIN:VEVENT
UID:1203@swroga.org
DTSTART:20260417T150000Z
DTEND:20260419T220000Z
DTSTAMP:20260108T020818Z
URL:http://swroga.org/events/heart-of-texas-orchid-show-and-sale
SUMMARY:Heart of Texas Orchid Show and Sale
DESCRIPTION:This bench show is open to the public. Note that the hours vary
  by day.\n\nSaturday\, April 18th 10am - 5pm. Sunday\, April 19th 10am - 3
 :30pm\n\n&nbsp\;
CATEGORIES:Orchid Show
LOCATION:Zilker Botanical Garden\, 2220 Barton Springs Rd\, Austin\, TX\, 7
 8746\, United States
X-APPLE-STRUCTURED-LOCATION;VALUE=URI;X-ADDRESS=2220 Barton Springs Rd\, Au
 stin\, TX\, 78746\, United States;X-APPLE-RADIUS=100;X-TITLE=Zilker Botani
 cal Garden:geo:0,0
END:VEVENT
END:VCALENDAR