BEGIN:VCALENDAR
VERSION:2.0
PRODID:-//wp-events-plugin.com//7.2.3.1//EN
BEGIN:VEVENT
UID:153@swroga.org
DTSTART;TZID=America/Chicago:20250510T000000
DTEND;TZID=America/Chicago:20250511T000000
DTSTAMP:20250215T221254Z
URL:http://swroga.org/events/galveston-bay-os-swroga-show-and-sale
SUMMARY:Galveston Bay OS SWROGA  Show and Sale -
DESCRIPTION:Show setup is 5/9/25 9-5. 5/10/25 Sales 9-5 Show 11-5\n5/11/25 
 Show and Sales open 9-2\nthis is a full SWROGA Show with AOS Judging 5/10/
 25 8-?\nShow Theme is "Orchid Adventures"\nShow Chairperson is Joyce McMil
 lan - 832 279 0211 mobile\nemail joycemcmillan@gardener.com\n\nWHERE TO ST
 AY:\nhttps://www.cityofwebster.com/hotels
CATEGORIES:Orchid Show
LOCATION:Webster Civic Center\, 311 Pennsylvania Avenue\, Webster\, TX\, 77
 598\, United States
GEO:29.533346;-95.11829
X-APPLE-STRUCTURED-LOCATION;VALUE=URI;X-ADDRESS=311 Pennsylvania Avenue\, W
 ebster\, TX\, 77598\, United States;X-APPLE-RADIUS=100;X-TITLE=Webster Civ
 ic Center:geo:29.533346,-95.11829
END:VEVENT
BEGIN:VTIMEZONE
TZID:America/Chicago
X-LIC-LOCATION:America/Chicago
BEGIN:DAYLIGHT
DTSTART:20250309T030000
TZOFFSETFROM:-0600
TZOFFSETTO:-0500
TZNAME:CDT
END:DAYLIGHT
END:VTIMEZONE
END:VCALENDAR