BEGIN:VCALENDAR
VERSION:2.0
PRODID:-//wp-events-plugin.com//7.2.3.1//EN
BEGIN:VEVENT
UID:199@swroga.org
DTSTART;TZID=America/Chicago:20250301T080000
DTEND;TZID=America/Chicago:20250301T160000
DTSTAMP:20241129T235530Z
URL:http://swroga.org/events/central-louisiana-orchid-society-show
SUMMARY:Central Louisiana Orchid Society Show
DESCRIPTION:
CATEGORIES:Orchid Judging,Orchid Show
LOCATION:Kees Park Community Center\, 2450 Highway 28 E\, Pineville\, LA\, 
 71360\, United States
X-APPLE-STRUCTURED-LOCATION;VALUE=URI;X-ADDRESS=2450 Highway 28 E\, Pinevil
 le\, LA\, 71360\, United States;X-APPLE-RADIUS=100;X-TITLE=Kees Park Commu
 nity Center:geo:0,0
END:VEVENT
BEGIN:VTIMEZONE
TZID:America/Chicago
X-LIC-LOCATION:America/Chicago
BEGIN:STANDARD
DTSTART:20241103T010000
TZOFFSETFROM:-0500
TZOFFSETTO:-0600
TZNAME:CST
END:STANDARD
END:VTIMEZONE
END:VCALENDAR