BEGIN:VCALENDAR
VERSION:2.0
PRODID:-//wp-events-plugin.com//7.2.3.1//EN
BEGIN:VEVENT
UID:1206@swroga.org
DTSTART:20260502T140000Z
DTEND:20260503T210000Z
DTSTAMP:20260421T170935Z
URL:http://swroga.org/events/bold-beautiful-orchids
SUMMARY:Bold &amp\; Beautiful Orchids
DESCRIPTION:You’re invited to the Fort Worth Orchid Society Show &amp\; S
 ale!  Saturday\, May 2 from 9-5\, Sunday\, May 3 from 9-4.
CATEGORIES:Orchid Show
LOCATION:Fort Worth Botanic Gardens\, 3220 Botanic Garden Blvd\, Fort Worth
 \, Texas\, 76104\, United States
GEO:32.740428;-97.363603
X-APPLE-STRUCTURED-LOCATION;VALUE=URI;X-ADDRESS=3220 Botanic Garden Blvd\, 
 Fort Worth\, Texas\, 76104\, United States;X-APPLE-RADIUS=100;X-TITLE=Fort
  Worth Botanic Gardens:geo:32.740428,-97.363603
END:VEVENT
END:VCALENDAR