BEGIN:VCALENDAR
VERSION:2.0
PRODID:-//wp-events-plugin.com//7.2.3.1//EN
BEGIN:VEVENT
UID:414@swroga.org
DTSTART;TZID=America/Chicago:20250711T080000
DTEND;TZID=America/Chicago:20250713T160000
DTSTAMP:20250203T154122Z
URL:http://swroga.org/events/baton-rouge-orchid-society-annual-show-and-sa
 le
SUMMARY:Baton Rouge Orchid Society Annual Show and Sale
DESCRIPTION:
CATEGORIES:Orchid Judging,Orchid Sale / Auction,Orchid Show
LOCATION:Rural Life Museum\, 4560 Essen Lane\, Baton Rouge\, Lousisana\, 70
 809\, United States
GEO:30.408892;-91.105838
X-APPLE-STRUCTURED-LOCATION;VALUE=URI;X-ADDRESS=4560 Essen Lane\, Baton Rou
 ge\, Lousisana\, 70809\, United States;X-APPLE-RADIUS=100;X-TITLE=Rural Li
 fe Museum:geo:30.408892,-91.105838
END:VEVENT
BEGIN:VTIMEZONE
TZID:America/Chicago
X-LIC-LOCATION:America/Chicago
BEGIN:DAYLIGHT
DTSTART:20250309T030000
TZOFFSETFROM:-0600
TZOFFSETTO:-0500
TZNAME:CDT
END:DAYLIGHT
END:VTIMEZONE
END:VCALENDAR