BEGIN:VCALENDAR
VERSION:2.0
PRODID:-//wp-events-plugin.com//7.2.3.1//EN
BEGIN:VEVENT
UID:1201@swroga.org
DTSTART:20260710T140000Z
DTEND:20260712T213000Z
DTSTAMP:20251211T153928Z
URL:http://swroga.org/events/baton-rouge-annual-orchid-show
SUMMARY:Baton Rouge Annual Orchid Show
DESCRIPTION:
CATEGORIES:Orchid Show
LOCATION:LSU Rural Life Museum (not conference center)\, 4560 Essen Lane\, 
 Baton Rouge\, LA\, 70803\, United States
GEO:30.408892;-91.105838
X-APPLE-STRUCTURED-LOCATION;VALUE=URI;X-ADDRESS=4560 Essen Lane\, Baton Rou
 ge\, LA\, 70803\, United States;X-APPLE-RADIUS=100;X-TITLE=LSU Rural Life 
 Museum (not conference center):geo:30.408892,-91.105838
END:VEVENT
END:VCALENDAR