BEGIN:VCALENDAR
VERSION:2.0
PRODID:-//wp-events-plugin.com//7.2.3.1//EN
BEGIN:VEVENT
UID:700@swroga.org
DTSTART;TZID=America/Chicago:20250926T090000
DTEND;TZID=America/Chicago:20250928T170000
DTSTAMP:20250627T222904Z
URL:http://swroga.org/events/alamo-orchid-society-of-san-antonio-show-sale
SUMMARY:Alamo Orchid Society of San Antonio Show &amp\; Sale
DESCRIPTION:Show registration &amp\; setup Sept 26 9am-4pm judging beginnin
 g 5pm\n\nSale Sept 27 from 9am-5pm and Sept 28 from 10am-4pm
CATEGORIES:Orchid Events
LOCATION:San Antonio Garden Center\, 3310 North New Braunfels Avenue\, San 
 Antonio\, Texas\, 78209\, United States
GEO:29.4580066;-98.4608217
X-APPLE-STRUCTURED-LOCATION;VALUE=URI;X-ADDRESS=3310 North New Braunfels Av
 enue\, San Antonio\, Texas\, 78209\, United States;X-APPLE-RADIUS=100;X-TI
 TLE=San Antonio Garden Center:geo:29.4580066,-98.4608217
END:VEVENT
BEGIN:VTIMEZONE
TZID:America/Chicago
X-LIC-LOCATION:America/Chicago
BEGIN:DAYLIGHT
DTSTART:20250309T030000
TZOFFSETFROM:-0600
TZOFFSETTO:-0500
TZNAME:CDT
END:DAYLIGHT
END:VTIMEZONE
END:VCALENDAR