BEGIN:VCALENDAR
VERSION:2.0
PRODID:-//wp-events-plugin.com//7.2.3.1//EN
BEGIN:VEVENT
UID:763@swroga.org
DTSTART;TZID=America/Chicago:20251010T090000
DTEND;TZID=America/Chicago:20251012T150000
DTSTAMP:20251009T051015Z
URL:http://swroga.org/events/2025-greater-north-texas-orchid-society-fall-
 swroga-show-and-sale
SUMMARY:2025 Greater North Texas Orchid Society Fall  SWROGA Show and Sale
DESCRIPTION:Show set-up and then judging will occur 10/10/2025. Judges need
  to be present by 4pm\, 10/10/2025.\nTHe SWROGA general meeting will occur
  9:30am 10/11/2025.\nDallas Judging Center training and judging will occur
  from 11am -1pm 10/11/2025.\nShow will be open to public 10/11/2025 from 9
 am to 5pm\, 10/12 10am to 3pm. A nominal charge of $1 per person is expect
 ed.\nContact Emily Quinn at (214)578-8866 or emily.quinn1@verizon.net to g
 et questions answered or to get a form to put in an exhibit.
CATEGORIES:Orchid Show
LOCATION:Texas A&amp\;M AgriLife - Water and Land Resources Building\, 1736
 0 Coit Rd.\, Dallas\, TX\, 75252\, United States
GEO:32.987285;-96.766895
X-APPLE-STRUCTURED-LOCATION;VALUE=URI;X-ADDRESS=17360 Coit Rd.\, Dallas\, T
 X\, 75252\, United States;X-APPLE-RADIUS=100;X-TITLE=Texas A&M AgriLife - 
 Water and Land Resources Building:geo:32.987285,-96.766895
END:VEVENT
BEGIN:VTIMEZONE
TZID:America/Chicago
X-LIC-LOCATION:America/Chicago
BEGIN:DAYLIGHT
DTSTART:20250309T030000
TZOFFSETFROM:-0600
TZOFFSETTO:-0500
TZNAME:CDT
END:DAYLIGHT
END:VTIMEZONE
END:VCALENDAR